View In:
ArcGIS JavaScript
ArcGIS Online Map Viewer
ArcGIS Earth
ArcMap
View Footprint In:
ArcGIS Online Map Viewer
Service Description: This statewide DEM service provides Wyoming elevation data through an ArcGIS mosaic dataset built from Cloud Optimized GeoTIFFs (COGs) stored on an S3-compatible object storage environment. The source 1-meter digital terrain model tiles were originally prepared by Woolpert from USGS 3DEP lidar data for the State of Wyoming, reprojected to GCS North American 1983, resampled to 1-meter grids in geographic coordinates, checked for internal NoData voids, and delivered in a tiled structure; WyGISC subsequently converted those tiled DTM rasters to COG format for scalable storage and efficient service delivery. During COG creation, GDAL was used to assign EPSG:4326, write COG output with LZW compression, 128-pixel block size, BigTIFF support, and a NoData value of 65535, and to build internal overviews for improved multi-scale display performance.
Name: wyolidar/CogWyoS3
Description: This statewide DEM service provides Wyoming elevation data through an ArcGIS mosaic dataset built from Cloud Optimized GeoTIFFs (COGs) stored on an S3-compatible object storage environment. The source 1-meter digital terrain model tiles were originally prepared by Woolpert from USGS 3DEP lidar data for the State of Wyoming, reprojected to GCS North American 1983, resampled to 1-meter grids in geographic coordinates, checked for internal NoData voids, and delivered in a tiled structure; WyGISC subsequently converted those tiled DTM rasters to COG format for scalable storage and efficient service delivery. During COG creation, GDAL was used to assign EPSG:4326, write COG output with LZW compression, 128-pixel block size, BigTIFF support, and a NoData value of 65535, and to build internal overviews for improved multi-scale display performance.
Single Fused Map Cache: false
Extent:
XMin: -1.23628003401E7
YMin: 5011498.789644878
XMax: -1.1582994783650544E7
YMax: 5622489.729800001
Spatial Reference: 102100
(3857)
Initial Extent:
XMin: -1.23628003401E7
YMin: 5011498.789644878
XMax: -1.1582994783650544E7
YMax: 5622489.729800001
Spatial Reference: 102100
(3857)
Full Extent:
XMin: -1.23628003401E7
YMin: 5011498.789644878
XMax: -1.1582994783650544E7
YMax: 5622489.729800001
Spatial Reference: 102100
(3857)
Pixel Size X: 1.3914936349156708
Pixel Size Y: 1.3914936349156721
Band Count: 1
Pixel Type: U16
RasterFunction Infos: {"rasterFunctionInfos": [{
"name": "None",
"description": "",
"help": ""
}]}
Mensuration Capabilities: None
Has Histograms: true
Has Colormap: false
Has Multi Dimensions : false
Rendering Rule:
Min Scale: 0
Max Scale: 0
Copyright Text:
Service Data Type: esriImageServiceDataTypeGeneric
Min Values: 946
Max Values: 4208
Mean Values: 1944.8797508979476
Standard Deviation Values: 499.9172899289261
Object ID Field: OBJECTID
Fields:
-
OBJECTID
(
type: esriFieldTypeOID, alias: OBJECTID
)
-
Shape
(
type: esriFieldTypeGeometry, alias: Shape
)
-
Name
(
type: esriFieldTypeString, alias: Name, length: 200
)
-
MinPS
(
type: esriFieldTypeDouble, alias: MinPS
)
-
MaxPS
(
type: esriFieldTypeDouble, alias: MaxPS
)
-
LowPS
(
type: esriFieldTypeDouble, alias: LowPS
)
-
HighPS
(
type: esriFieldTypeDouble, alias: HighPS
)
-
Category
(
type: esriFieldTypeInteger, alias: Category
, Coded Values:
[0: Unknown]
, [1: Primary]
, [2: Overview]
, ...6 more...
)
-
Tag
(
type: esriFieldTypeString, alias: Tag, length: 100
)
-
GroupName
(
type: esriFieldTypeString, alias: GroupName, length: 100
)
-
ProductName
(
type: esriFieldTypeString, alias: ProductName, length: 100
)
-
CenterX
(
type: esriFieldTypeDouble, alias: CenterX
)
-
CenterY
(
type: esriFieldTypeDouble, alias: CenterY
)
-
ZOrder
(
type: esriFieldTypeInteger, alias: ZOrder
)
-
Shape_Length
(
type: esriFieldTypeDouble, alias: Shape_Length
)
-
Shape_Area
(
type: esriFieldTypeDouble, alias: Shape_Area
)
Default Mosaic Method: Northwest
Allowed Mosaic Methods: NorthWest
SortField:
SortValue: null
Mosaic Operator: First
Default Compression Quality: 75
Default Resampling Method: Bilinear
Max Record Count: 1000
Max Image Height: 4100
Max Image Width: 15000
Max Download Image Count: 20
Max Mosaic Image Count: 20
Allow Raster Function: true
Allow Copy: true
Allow Analysis: true
Allow Compute TiePoints: false
Supports Statistics: true
Supports Advanced Queries: true
Use StandardizedQueries: true
Raster Type Infos:
Name: Raster Dataset
Description: Supports all ArcGIS Raster Datasets
Help:
Has Raster Attribute Table: false
Edit Fields Info: null
Ownership Based AccessControl For Rasters: null
Child Resources:
Info
Histograms
Statistics
Key Properties
Legend
Raster Function Infos
Supported Operations:
Export Image
Query
Identify
Compute Histograms
Compute Statistics Histograms
Get Samples
Compute Class Statistics
Query Boundary
Compute Pixel Location
Compute Angles
Validate
Project