View In:
ArcGIS JavaScript
ArcGIS Online Map Viewer
ArcGIS Earth
ArcMap
View Footprint In:
ArcGIS Online Map Viewer
Service Description: CampusImagery/CampusImagery2012_WebMercator
Name: CampusImagery/CampusImagery2012_WebMercator
Description:
Single Fused Map Cache: false
Extent:
XMin: -1.1754400484574137E7
YMin: 5057541.397249567
XMax: -1.1748905040201757E7
YMax: 5060431.669477713
Spatial Reference:
102100
(3857)
Initial Extent:
XMin: -1.1754400484574137E7
YMin: 5057541.397249567
XMax: -1.1748905040201757E7
YMax: 5060431.669477713
Spatial Reference:
102100
(3857)
Full Extent:
XMin: -1.1754400484574137E7
YMin: 5057541.397249567
XMax: -1.1748905040201757E7
YMax: 5060431.669477713
Spatial Reference:
102100
(3857)
Pixel Size X: 0.5100180392000141
Pixel Size Y: 0.5100180391999245
Band Count: 3
Pixel Type: U8
RasterFunction Infos: {"rasterFunctionInfos": [{
"name": "None",
"description": "",
"help": ""
}]}
Mensuration Capabilities: Basic
Has Histograms: true
Has Colormap: false
Has Multi Dimensions : false
Rendering Rule:
Min Scale: 0
Max Scale: 0
Copyright Text:
Service Data Type: esriImageServiceDataTypeRGB
Min Values: 0, 0, 0
Max Values: 229, 239, 239
Mean Values: 113.12603274463, 116.56919682766, 116.56919682766
Standard Deviation Values: 53.300408842869, 49.106669789832, 49.106669789832
Object ID Field:
Fields:
None
Default Mosaic Method: Center
Allowed Mosaic Methods:
SortField:
SortValue: null
Mosaic Operator: First
Default Compression Quality: 75
Default Resampling Method: Bilinear
Max Record Count: null
Max Image Height: 4100
Max Image Width: 15000
Max Download Image Count: null
Max Mosaic Image Count: null
Allow Raster Function: true
Allow Compute TiePoints: false
Supports Statistics: false
Supports Advanced Queries: false
Use StandardizedQueries: true
Raster Type Infos:
Name: Raster Dataset
Description: Supports all ArcGIS Raster Datasets
Help:
Has Raster Attribute Table: false
Edit Fields Info: null
Ownership Based AccessControl For Rasters: null
Child Resources:
Info
Histograms
Key Properties
Legend
MultiDimensionalInfo
rasterFunctionInfos
Supported Operations:
Export Image
Identify
Measure
Compute Histograms
Compute Statistics Histograms
Get Samples
Compute Class Statistics
Query Boundary